BEGIN:VCALENDAR
VERSION:2.0
PRODID:-//Life Center Littleton - ECPv6.15.20//NONSGML v1.0//EN
CALSCALE:GREGORIAN
METHOD:PUBLISH
X-WR-CALNAME:Life Center Littleton
X-ORIGINAL-URL:https://www.lifecenterlittleton.org
X-WR-CALDESC:Events for Life Center Littleton
REFRESH-INTERVAL;VALUE=DURATION:PT1H
X-Robots-Tag:noindex
X-PUBLISHED-TTL:PT1H
BEGIN:VTIMEZONE
TZID:America/Denver
BEGIN:DAYLIGHT
TZOFFSETFROM:-0700
TZOFFSETTO:-0600
TZNAME:MDT
DTSTART:20230312T090000
END:DAYLIGHT
BEGIN:STANDARD
TZOFFSETFROM:-0600
TZOFFSETTO:-0700
TZNAME:MST
DTSTART:20231105T080000
END:STANDARD
BEGIN:DAYLIGHT
TZOFFSETFROM:-0700
TZOFFSETTO:-0600
TZNAME:MDT
DTSTART:20240310T090000
END:DAYLIGHT
BEGIN:STANDARD
TZOFFSETFROM:-0600
TZOFFSETTO:-0700
TZNAME:MST
DTSTART:20241103T080000
END:STANDARD
BEGIN:DAYLIGHT
TZOFFSETFROM:-0700
TZOFFSETTO:-0600
TZNAME:MDT
DTSTART:20250309T090000
END:DAYLIGHT
BEGIN:STANDARD
TZOFFSETFROM:-0600
TZOFFSETTO:-0700
TZNAME:MST
DTSTART:20251102T080000
END:STANDARD
END:VTIMEZONE
BEGIN:VEVENT
DTSTART;TZID=America/Denver:20241231T120000
DTEND;TZID=America/Denver:20241231T140000
DTSTAMP:20260421T071124
CREATED:20240916T180948Z
LAST-MODIFIED:20240916T215146Z
UID:10007816-1735646400-1735653600@www.lifecenterlittleton.org
SUMMARY:Food Bank - FIRST COME FIRST SERVE
DESCRIPTION:Tuesday | 12:00 – 2:00 PMOn December 31\, 2024\, the Food Bank will be first come first serve and will take place from 12:00 – 2:00 PM. No appointments.  If you are struggling to put food on the table\, you are not alone. The Food Bank is an emergency\, short-term food pantry for the able-bodied and a long-term food pantry for seniors\, disabled individuals\, and those suffering from long-term illnesses. We have a caring team that wants to welcome you\, listen to your story\, and offer encouragement for the future. \nWe offer a wide variety of groceries which include fresh fruit\, vegetables\, dairy\, canned\, and ready-to-eat food. \nTo receive groceries\, please bring your Photo ID for yourself and everyone you’re shopping for.
URL:https://www.lifecenterlittleton.org/event/food-bank-2024-12-31/
LOCATION:Life Center Littleton\, 5804 S. Datura St.\, Littleton\, CO\, 80120\, United States
ATTACH;FMTTYPE=image/jpeg:https://www.lifecenterlittleton.org/wp-content/uploads/2017/02/full_header_foodbank-1.jpg
GEO:39.611529;-105.003986
X-APPLE-STRUCTURED-LOCATION;VALUE=URI;X-ADDRESS=Life Center Littleton 5804 S. Datura St. Littleton CO 80120 United States;X-APPLE-RADIUS=500;X-TITLE=5804 S. Datura St.:geo:-105.003986,39.611529
END:VEVENT
END:VCALENDAR